Workbook
Name carne: #REF!
Name OLE_LINK1: #REF!
Name OLE_LINK1: #REF!

Sheet HOJA DE INSCRPCION
B4: Hoja de Inscripción
B5: 17 y 18 de Octubre de 2011, Hotel New Otani Tokyo
B7: Instrucciones:
B8: Por favor, rellene el presente formulario (en las celdas de borde azul elija la opción que corresponda).
B9: Rogamos envíe este formulario en formato excel a la Cámara de Comercio correspondiente antes del día viernes 24 de junio.
A11: 1 | B11: Cámara de Comercio responsable (elegir) …….……….. | O11: Cámaras | P11: Columna1 | Q11: Columna2 | R11: Columna3 | S11: Columna4 | T11: Columna5 | U11: Columna6
A12: 2 | B12: Nombre de la empresa | M12: 5 | N12: 10 | O12: A Coruña | P12: SÍ | Q12: 5 | R12: 10 | S12: Sí, figura en la lista de establecimientos reconocidos por el Ministerio de Agricultura japonés | T12: No | U12: Vinos exclusivamente
A13: 3 | B13: NIF | M13: 4 | N13: 8 | O13: Barcelona | P13: NO | Q13: 4 | R13: 9 | S13: No figura en la lista de establecimientos reconocidos por el Ministerio de Agricultura japonés | T13: Sí, en inglés | U13: Alimentos exclusivamente
A14: 4 | B14: Dirección | M14: 3 | N14: 6 | O14: Burgos | Q14: 3 | R14: 8 | S14: No figura en la lista de establecimientos reconocidos por el Ministerio de Agricultura japonés pero está en trámite | T14: Sí, en inglés y japonés | U14: Alimentos y vinos
M15: 2 | N15: 3 | O15: Ciudad Real | Q15: 2 | R15: 7 | T15: Sí, en japonés
A16: 5 | B16: Ciudad | M16: 1 | N16: 1 | O16: Madrid | Q16: 1 | R16: 6
A17: 6 | B17: Provincia | O17: Murcia | R17: 5
A18: 7 | B18: Código Postal | O18: Navarra | R18: 4
A19: 8 | B19: Nombre de la persona de contacto (por favor agrege "Mr." o "Ms." antes del nombre, según corresponda) | O19: Valencia | R19: 3
A20: 9 | B20: Cargo que desempeña en la empresa | O20: Zaragoza | R20: 1
A21: 10 | B21: Teléfono | D21: (+34)
A22: 11 | B22: Fax | D22: (+34)
A23: 12 | B23: E-mail | D23: *De la persona de contacto :
D24: *De la empresa (general) :
A25: 13 | B25: Página Web
B26: ¿Disponible en inglés y/o japonés? (elegir) ……..…...…
A27: 14 | B27: Tipo de producto a exhibir (elegir) …………..….......………
A28: 15 | B28: =IF($E$27="Vinos exclusivamente","***** Por favor, pase a la pregunta No.17 *****",IF($E$27="Alimentos exclusivamente","¿Incluye carne o productos cárnicos? (elegir) ……………....…",IF($E$27="Alimentos y vinos","¿Incluye carne o productos cárnicos? (elegir) ……..………...","")))
B29: =IF(E28="SÍ","A la fecha ¿está su empresa homologada y autorizada para poder exportar productos a Japón? (por favor seleccione) …………………...……...…………..….........",IF(E28="NO","Por favor, pase a la siguiente pregunta No.16","")) | S29: SÍ, figura en la lista de establecimientos reconocidos por el Ministerio de Agricultura japonés
C30: =IF(E29="Sí, figura en la lista de establecimientos reconocidos por el Ministerio de Agricultura japonés","Por favor escriba su Número de Registro:",IF(E29="No figura en la lista de establecimientos reconocidos por el Ministerio de Agricultura japonés","Por favor, pase a la siguiente pregunta",IF(E29="No figura en la lista de establecimientos reconocidos por el Ministerio de Agricultura japonés pero está en trámite","Por favor indique la fecha de inicio del trámite:","")))
A31: 16 | B31: =IF($E$27="Vinos exclusivamente","***** Por favor, pase a la pregunta No.17 *****",IF($E$27="Alimentos exclusivamente","Productos a presentar en la exposición:",IF($E$27="Alimentos y vinos","Productos alimenticios a presentar en la exposición:",""))) | E31: =IF($E$27="Vinos exclusivamente","",IF($E$27="Alimentos exclusivamente","Producto",IF($E$27="Alimentos y vinos","Producto",""))) | G31: =IF($E$27="Vinos exclusivamente","",IF($E$27="Alimentos exclusivamente","Marca(s)",IF($E$27="Alimentos y vinos","Marca(s)",""))) | H31: =IF($E$27="Vinos exclusivamente","",IF($E$27="Alimentos exclusivamente","Otra información acerca del producto",IF($E$27="Alimentos y vinos","Otra información acerca del producto",""))) | S31: NO, no figura en la lista de establecimientos reconocidos por el Ministerio de Agricultura japonés
D32: 1. | Q32: Blanco | S32: 2010 | T32: VP | U32: Joven
D33: 2. | Q33: Tinto | S33: 2009 | T33: DOCa | U33: Barrica
D34: 3. | Q34: Rosado | S34: 2008 | T34: DO | U34: Crianza
D35: 4. | Q35: Cava | S35: 2007 | T35: VCIG | U35: Reserva
D36: 5. | Q36: Vinos generosos/dulces | S36: 2006 | T36: VdeT | U36: Gran Reserva
D37: 6. | Q37: Otro | S37: 2005 | T37: Vino de mesa/ Otra | U37: Reserva Especial
D38: 7. | S38: 2004 | U38: Solera Vieja
D39: 8. | S39: 2003 | U39: Otro
D40: 9. | S40: 2002
D41: 10. | S41: 2001
A42: 17 | B42: =IF($E$27="Vinos exclusivamente","Lista de vinos a presentar en la exposición",IF($E$27="Alimentos exclusivamente","***** Por favor, pase a la pregunta No.18 *****",IF($E$27="Alimentos y vinos","Lista de vinos a presentar en la exposición",""))) | E42: =IF($E$27="Vinos exclusivamente","Marca",IF($E$27="Alimentos exclusivamente","",IF($E$27="Alimentos y vinos","Marca",""))) | F42: =IF($E$27="Vinos exclusivamente","Tipo/Color del vino (elija por favor)",IF($E$27="Alimentos exclusivamente","",IF($E$27="Alimentos y vinos","Tipo/Color del vino (elija por favor)",""))) | G42: =IF($E$27="Vinos exclusivamente","Añada (elija por favor)",IF($E$27="Alimentos exclusivamente","",IF($E$27="Alimentos y vinos","Añada (elija por favor)",""))) | H42: =IF($E$27="Vinos exclusivamente","Categoría (elija por favor)",IF($E$27="Alimentos exclusivamente","",IF($E$27="Alimentos y vinos","Categoría (elija por favor)",""))) | I42: =IF($E$27="Vinos exclusivamente","Región del vino (texto libre)",IF($E$27="Alimentos exclusivamente","",IF($E$27="Alimentos y vinos","Región del vino (texto libre)",""))) | J42: =IF($E$27="Vinos exclusivamente","Envejecimiento (elija por favor)",IF($E$27="Alimentos exclusivamente","",IF($E$27="Alimentos y vinos","Envejecimiento (elija por favor)",""))) | K42: =IF($E$27="Vinos exclusivamente","Tipo(s) de uva",IF($E$27="Alimentos exclusivamente","",IF($E$27="Alimentos y vinos","Tipo(s) de uva",""))) | L42: =IF($E$27="Vinos exclusivamente","Otra información (texto libre)",IF($E$27="Alimentos exclusivamente","",IF($E$27="Alimentos y vinos","Otra información (texto libre)",""))) | S42: Otra
D43: 1.
D44: 2.
D45: 3.
D46: 4.
D47: 5.
D48: 6.
D49: 7.
D50: 8.
D51: 9.
D52: 10.
A53: 18 | B53: ¿Se incluyen productos ecológicos entre los productos que expondrá?
B54: En caso afirmativo, por favor especifique las marcas:
A55: 19 | B55: Breve presentación de la empresa (en menos de 7 líneas). Por favor, describa las que considere sus mejores cualidades para atraer a los compradores japoneses (se imprimirán en el catálogo de expositores)
R56: Número de Vino | S56: Marca | T56: Añada | U56: Color | V56: Categoría envejecimiento | W56: Tipos de uva
R57: Vino 1
R58: Vino 2
R59: Vino 3
R60: Vino 4
A62: 20 | B62: ¿Tiene experiencia en exportación fuera de la UE? (elegir) ………………...…….
B63: En caso afirmativo, ¿a qué país(es) exporta?
A68: 21 | B68: Volumen total de exportaciones en 2010: | F68: euros
A69: 22 | B69: ¿Tiene representante o socio japonés?: (elegir) ……...….……
B70: =IF(E69="SÍ","Nombre de la empresa:",IF(E69="NO","Por favor, pase al CUESTIONARIO DE AUTOEVALUACIÓN","")) | R70: Vino 5
B71: =IF(E69="SÍ","Dirección:",IF(E69="NO","",""))
B72: =IF(E69="SÍ","Nombre de la persona de contacto:",IF(E69="NO","",""))
B73: =IF(E69="SÍ","Tel.:",IF(E69="NO","","")) | R73: Vino 7
B74: =IF(E69="SÍ","Fax.:",IF(E69="NO","","")) | R74: Vino 8
B75: =IF(E69="SÍ","e-mail:",IF(E69="NO","",""))
B76: =IF(E69="SÍ","Página web:",IF(E69="NO","",""))
B77: =IF(E69="SÍ","¿Desea que el representante o socio aparezca en el catálogo? (elegir) ……..…...……...……",IF(E69="NO","",""))
B78: CUESTIONARIO DE AUTOEVALUACIÓN
B79: Por favor, tome como referencia las pautas para la autoevaluación descritas en la parte derecha.
B80: Experiencia en exportación (elegir) …….………….….…………………………. | G80: Puntos
F81: (máx. 5 puntos)
B82: Experiencia en el mercado (elegir) …………………………………………….. | G82: Puntos
B83: (área de distribución de su producto) | F83: (máx. 5 puntos)
B84: Premios recibidos (elegir) ……………………..……………..………………..… | G84: Puntos
B85: No es necesario adjuntar justificante de los premios, sólo mencionarlos | F85: (máx. 5 puntos)
B86: Por favor, mencione los premios recibidos en los últimos 5 años: 1.
E87: 2.
E88: 3.
E89: 4.
E90: 5.
B91: Críticas recibidas en la prensa (elegir) …………..….……..…………………….. | G91: Puntos
B92: En caso de vinos que hayan recibido puntuación en revistas especializadas por favor adjunte copia escaneada del justificante. | F92: (máx. 10 puntos)
B93: Total : | F93: =IF(SUM(F80,F82,F84,F91)=0,"",SUM(F80,F82,F84,F91)) | G93: Puntos
B95: La empresa, a través de su representante, acepta las condiciones de la convocatoria y suscribe la veracidad de los datos aportados:
B96: Nombre del representante de la empresa:
B97: Fecha:
B99: Muchas gracias.
B101: FEDER “A efectos meramente informativos y siguiendo las directrices emanadas del Reglamento (CE) nº 1828/2006 de la de 8 de diciembre de 2006, vigente para el periodo operativo 2007-2013, relativos a las actividades de información y publicidad que deben llevar a cabo los Estados miembros en relación con las intervenciones de los Fondos Estructurales, se hace constar que la actividad descrita en este comunicado puede ser susceptible de ser financiada por la Unión Europea a través de los Fondos Europeos de Desarrollo Regional (FEDER), de las que el Instituto Español de Comercio Exterior es órgano ejecutor." “En el caso de que su empresa sea finalmente beneficiaria de la ayuda ICEX y asimismo ésta sea cofinanciada con Fondos Comunitarios, la aceptación por su parte de la misma implica la aceptación de su inclusión en la lista de beneficiarios publicada de conformidad con el art. 7, apartado 2, letra d) del Reglamento indicado anteriormente”.

Sheet EJEMPLO
B2: Hoja de Inscripción
B3: 17 y 18 de Octubre de 2011, Hotel New Otani Tokyo
B5: Instrucciones:
B6: Por favor, rellene el presente formulario (en las celdas de borde azul elija la opción que corresponda).
B7: Rogamos envíe este formulario en formato excel a la Cámara de Comercio correspondiente antes del día viernes 24 de junio.
A9: 1 | B9: Cámara de Comercio responsable (elegir) …….…………………….. | E9: A Coruña | O9: Cámaras | P9: Columna1 | Q9: Columna2 | R9: Columna3 | S9: Columna4 | T9: Columna5 | U9: Columna6
A10: 2 | B10: Nombre de la empresa | E10: Vinos y Conservas Camilho Igrexas | M10: 5 | N10: 10 | O10: A Coruña | P10: SÍ | Q10: 5 | R10: 10 | S10: Sí, figura en la lista de establecimientos reconocidos por el Ministerio de Agricultura japonés | T10: No | U10: Vinos exclusivamente
A11: 3 | B11: NIF | E11: F12345678 | M11: 4 | N11: 8 | O11: Barcelona | P11: NO | Q11: 4 | R11: 8 | S11: No, no figura en la lista de establecimientos reconocidos por el Ministerio de Agricultura japonés | T11: Sí, en inglés | U11: Alimentos exclusivamente
A12: 4 | B12: Dirección | E12: Paseo de la Francesa 14-16 | M12: 3 | N12: 6 | O12: Burgos | Q12: 3 | R12: 6 | S12: No, no figura en la lista de establecimientos reconocidos por el Ministerio de Agricultura japonés pero está en trámite | T12: Sí, en inglés y japonés | U12: Alimentos y vinos
M13: 2 | N13: 3 | O13: Ciudad Real | Q13: 2 | R13: 3 | T13: Sí, en japonés
A14: 5 | B14: Ciudad | E14: Rodeiro | M14: 1 | N14: 1 | O14: Madrid | Q14: 1 | R14: 1
A15: 6 | B15: Provincia | E15: Pontevedra | O15: Murcia
A16: 7 | B16: Código Postal | E16: 36530 | O16: Navarra
A17: 8 | B17: Nombre de la persona de contacto (por favor agrege "Mr." o "Ms." antes del nombre, según corresponda) | E17: Mr. Julio Sesto | O17: Valencia
A18: 9 | B18: Cargo que desempeña en la empresa | E18: Director de Exportación | O18: Zaragoza
A19: 10 | B19: Teléfono | D19: (+34) | E19: 98-1234567
A20: 11 | B20: Fax | D20: (+34) | E20: 98-1234568
A21: 12 | B21: E-mail | D21: *De la persona de contacto : | E21: juliosesto@vinosyconservas.cai.es
D22: *De la empresa (general) : | E22: info@vinosyconservas.cai.es
A23: 13 | B23: Página Web | E23: www.vinosyconservas.cai.es
B24: ¿Disponible en inglés y/o japonés? (elegir) …………………………… | E24: Sí, en inglés
A25: 14 | B25: Tipo de producto a exhibir (elegir) …………..…....……....……………. | E25: Alimentos y vinos
A26: 15 | B26: =IF($E$25="Vinos exclusivamente","***** Por favor, pase a la pregunta No.18 *****",IF($E$25="Alimentos exclusivamente","¿Incluye carne o productos cárnicos? (elegir) ……………....…...…",IF($E$25="Alimentos y vinos","¿Incluye carne o productos cárnicos? (elegir) ……..……….......…........……",""))) -> ¿Incluye carne o productos cárnicos? (elegir) ……..……….......…........…… | E26: SÍ
B27: =IF(E26="SÍ","A la fecha ¿está su empresa homologada y autorizada para poder exportar productos a Japón? (por favor seleccione) …………………...……...…………..….........",IF(E26="NO","Por favor, pase a la pregunta No. 17","")) -> A la fecha ¿está su empresa homologada y autorizada para poder exportar productos a Japón? (por favor seleccione) …………………...……...…………..…......... | E27: Sí, figura en la lista de establecimientos reconocidos por el Ministerio de Agricultura japonés | S27: SÍ, figura en la lista de establecimientos reconocidos por el Ministerio de Agricultura japonés
C28: =IF(E27="Sí, figura en la lista de establecimientos reconocidos por el Ministerio de Agricultura japonés","Por favor escriba su Número de Registro:",IF(E27="No figura en la lista de establecimientos reconocidos por el Ministerio de Agricultura japonés","Por favor, pase a la pregunta No.17",IF(E27="No figura en la lista de establecimientos reconocidos por el Ministerio de Agricultura japonés pero está en trámite","Por favor indique la fecha de inicio del trámite:",""))) -> Por favor escriba su Número de Registro: | E28: 12,34567/SA
A29: 16 | B29: =IF($E$25="Vinos exclusivamente","***** Por favor, pase a la pregunta No.18 *****",IF($E$25="Alimentos exclusivamente","Productos a presentar en la exposición:",IF($E$25="Alimentos y vinos","Productos alimenticios a presentar en la exposición:",""))) -> Productos alimenticios a presentar en la exposición: | E29: =IF($E$25="Vinos exclusivamente","",IF($E$25="Alimentos exclusivamente","Producto",IF($E$25="Alimentos y vinos","Producto",""))) -> Producto | G29: =IF($E$25="Vinos exclusivamente","",IF($E$25="Alimentos exclusivamente","Marca(s)",IF($E$25="Alimentos y vinos","Marca(s)",""))) -> Marca(s) | H29: =IF($E$25="Vinos exclusivamente","",IF($E$25="Alimentos exclusivamente","Otra información acerca del producto",IF($E$25="Alimentos y vinos","Otra información acerca del producto",""))) -> Otra información acerca del producto | S29: NO, no figura en la lista de establecimientos reconocidos por el Ministerio de Agricultura japonés
D30: 1. | E30: Conservas de mejillones | G30: "Conservas gourmet Camilho" | Q30: Blanco | S30: 2010 | T30: VP | U30: Joven
D31: 2. | E31: Gambas en conserva | G31: "Conservas gourmet Camilho" | Q31: Tinto | S31: 2009 | T31: DOCa | U31: Barrica
D32: 3. | E32: Jamón enlatado | G32: "Jamones enlatados Camilho" | Q32: Rosado | S32: 2008 | T32: DO | U32: Crianza
D33: 4. | Q33: Cava | S33: 2007 | T33: VCIG | U33: Reserva
D34: 5. | Q34: Vinos generosos/dulces | S34: 2006 | T34: VdeT | U34: Gran Reserva
D35: 6. | Q35: Otro | S35: 2005 | T35: Vino de mesa/ Otra | U35: Reserva Especial
D36: 7. | S36: 2004 | U36: Solera Vieja
D37: 8. | S37: 2003 | U37: Otro
D38: 9. | S38: 2002
D39: 10. | S39: 2001
A40: 17 | B40: =IF($E$25="Vinos exclusivamente","Lista de vinos a presentar en la exposición",IF($E$25="Alimentos exclusivamente","***** Por favor, pase a la pregunta No.19 *****",IF($E$25="Alimentos y vinos","Lista de vinos a presentar en la exposición",""))) -> Lista de vinos a presentar en la exposición | E40: =IF($E$25="Vinos exclusivamente","Marca",IF($E$25="Alimentos exclusivamente","",IF($E$25="Alimentos y vinos","Marca",""))) -> Marca | F40: =IF($E$25="Vinos exclusivamente","Tipo/Color del vino (elija por favor)",IF($E$25="Alimentos exclusivamente","",IF($E$25="Alimentos y vinos","Tipo/Color del vino (elija por favor)",""))) -> Tipo/Color del vino (elija por favor) | G40: =IF($E$25="Vinos exclusivamente","Añada (elija por favor)",IF($E$25="Alimentos exclusivamente","",IF($E$25="Alimentos y vinos","Añada (elija por favor)",""))) -> Añada (elija por favor) | H40: =IF($E$25="Vinos exclusivamente","Categoría (elija por favor)",IF($E$25="Alimentos exclusivamente","",IF($E$25="Alimentos y vinos","Categoría (elija por favor)",""))) -> Categoría (elija por favor) | I40: =IF($E$25="Vinos exclusivamente","Región del vino (texto libre)",IF($E$25="Alimentos exclusivamente","",IF($E$25="Alimentos y vinos","Región del vino(texto libre)",""))) -> Región del vino(texto libre) | J40: =IF($E$25="Vinos exclusivamente","Envejecimiento (elija por favor)",IF($E$25="Alimentos exclusivamente","",IF($E$25="Alimentos y vinos","Envejecimiento (elija por favor)",""))) -> Envejecimiento (elija por favor) | K40: =IF($E$25="Vinos exclusivamente","Tipo(s) de uva",IF($E$25="Alimentos exclusivamente","",IF($E$25="Alimentos y vinos","Tipo(s) de uva",""))) -> Tipo(s) de uva | L40: =IF($E$25="Vinos exclusivamente","Otra información (texto libre)",IF($E$25="Alimentos exclusivamente","",IF($E$25="Alimentos y vinos","Otra información (texto libre)",""))) -> Otra información (texto libre) | S40: Otra
D41: 1. | E41: Albariño Camilho | F41: Blanco | G41: 2009 | H41: DO | I41: Rías Baixas | J41: Joven | K41: Albariño
D42: 2. | E42: Albariño Igrexas | F42: Blanco | G42: 2010 | H42: DO | I42: Rías Baixas | J42: Joven | K42: Albariño
D43: 3.
D44: 4.
D45: 5.
D46: 6.
D47: 7.
D48: 8.
D49: 9.
D50: 10.
A51: 18 | B51: ¿Se incluyen productos ecológicos entre los productos que expondrá? | E51: SÍ
B52: En caso afirmativo, por favor especifique las marcas: | E52: Albariño Igrexas
A53: 19 | B53: Breve presentación de la empresa | E53: Somos una empresa fundada en 2001, con 7 años de experiencia exportando a países de la UE, Estados Unidos y Australia. Nuestras conservas y vinos blancos, de excelente maridaje, han alcanzado ambos ya un alto prestigio y reconocimiento en el exigente mercado estadounidense, siendo infaltables en los más exclusivos restaurantes y hoteles de Manhattan, Palm Beach y Beverly Hills.
B54: (en menos de 7 líneas) | R54: Número de Vino | S54: Marca | T54: Añada | U54: Color | V54: Categoría envejecimiento | W54: Tipos de uva
B55: Por favor, describa las que considere sus mejores cualidades para atraer a los compradores japoneses (se imprimirán en el catálogo de expositores) | R55: Vino 1
R56: Vino 2
R57: Vino 3
R58: Vino 4
A60: 20 | B60: ¿Tiene experiencia en exportación fuera de la UE? (elegir) …………………. | E60: SÍ
B61: En caso afirmativo, ¿a qué país(es) exporta? | E61: Estados Unidos, Australia.
A66: 21 | B66: Volumen total de exportaciones en 2010: | E66: 2 millones de | F66: euros
A67: 22 | B67: ¿Tiene representante o socio japonés?: (elegir) ……...….…… | E67: SÍ
B68: =IF(E67="SÍ","Nombre de la empresa:",IF(E67="NO","Por favor, pase al CUESTIONARIO DE AUTOEVALUACIÓN","")) -> Nombre de la empresa: | E68: DE JAPON TRADING INC. | R68: Vino 5
B69: =IF(E67="SÍ","Dirección:",IF(E67="NO","","")) -> Dirección: | E69: 1-2-3 Shichihongi, Mianto-ku, Tokyo 106-0032
B70: =IF(E67="SÍ","Nombre de la persona de contacto:",IF(E67="NO","","")) -> Nombre de la persona de contacto: | E70: Mr. Jurio Rokuban
B71: =IF(E67="SÍ","Tel.:",IF(E67="NO","","")) -> Tel.: | E71: 03-1234-5678 | R71: Vino 7
B72: =IF(E67="SÍ","Fax.:",IF(E67="NO","","")) -> Fax.: | E72: 03-1234-5679 | R72: Vino 8
B73: =IF(E67="SÍ","e-mail:",IF(E67="NO","","")) -> e-mail: | E73: jrokuban@dejapontrading.co.jp
B74: =IF(E67="SÍ","Página web:",IF(E67="NO","","")) -> Página web: | E74: www.dejapontrading.co.jp
B75: =IF(E67="SÍ","¿Desea que el representante o socio aparezca en el catálogo? (elegir) ……...…...……",IF(E67="NO","","")) -> ¿Desea que el representante o socio aparezca en el catálogo? (elegir) ……...…...…… | E75: SÍ
B76: CUESTIONARIO DE AUTOEVALUACIÓN
B77: Por favor, tome como referencia las pautas para la autoevaluación descritas en la parte derecha.
B78: Experiencia en exportación (elegir) …….………….….…………………………. | F78: 5 | G78: Puntos
F79: (máx. 5 puntos)
B80: Experiencia en el mercado (elegir) …………………………………………….. | F80: 5 | G80: Puntos
B81: (área de distribución de su producto) | F81: (máx. 5 puntos)
B82: Premios recibidos (elegir) ……………………..……………..………………..… | F82: 4 | G82: Puntos
B83: No es necesario adjuntar justificante de los premios, sólo mencionarlos | F83: (máx. 5 puntos)
B84: Por favor, mencione los premios recibidos en los últimos 5 años: 1. | F84: Primer lugar en la competición "New York International Canned Meat Competition 2009".
E85: 2. | F85: Ganador del concurso "World's Finest Gourmet Food 2010" llevado a cabo en Sydney.
E86: 3.
E87: 4.
E88: 5.
B89: Críticas recibidas en la prensa (elegir) …………..….……..…………………….. | F89: 8 | G89: Puntos
B90: En caso de vinos que hayan recibido puntuación en revistas especializadas por favor adjunte copia escaneada del justificante. | F90: (máx. 10 puntos)
B91: Total : | F91: =IF(SUM(F78,F80,F82,F89)=0,"",SUM(F78,F80,F82,F89)) -> 22 | G91: Puntos
B93: La empresa, a través de su representante, acepta las condiciones de la convocatoria y suscribe la veracidad de los datos aportados:
B94: Nombre del representante de la empresa: | D94: Vinos y Conservas Camilho Igrexas
B95: Fecha: | D95: Julio Sesto Ribeiro
B97: Muchas gracias.

Sheet A
B4: Stand No.
B5: Cámara | C5: ='HOJA DE INSCRPCION'!E11 -> 0
B6: Company name | C6: ='HOJA DE INSCRPCION'!E12 -> 0
B7: 会社名 | C7: *
B8: NIF | C8: ='HOJA DE INSCRPCION'!E13 -> 0
A9: 住所 | B9: Company address | C9: ='HOJA DE INSCRPCION'!E14 -> 0
C10: ='HOJA DE INSCRPCION'!E18 -> 0
C11: ,
C12: ='HOJA DE INSCRPCION'!E16 -> 0
C13: (
C14: ='HOJA DE INSCRPCION'!E17 -> 0
C15: )
C16: =IF(C12=C14,"DUPE","*") -> DUPE
C17: ='HOJA DE INSCRPCION'!E19 -> 0
C18: ='HOJA DE INSCRPCION'!E20 -> 0
B19: Phone | C19: (34)
C20: ='HOJA DE INSCRPCION'!E21 -> 0
B21: Fax | C21: (34)
C22: ='HOJA DE INSCRPCION'!E22 -> 0
B23: e-mail 個人 | C23: ='HOJA DE INSCRPCION'!E23 -> 0
B24: e-mail 一般 | C24: ='HOJA DE INSCRPCION'!E24 -> 0
B25: URL | C25: ='HOJA DE INSCRPCION'!E25 -> 0
B26: URL 英語/日本語 | C26: ='HOJA DE INSCRPCION'!E26 -> 0
B27: 製品の種類 | C27: ='HOJA DE INSCRPCION'!E27 -> 0
B28: 豚肉製品 | C28: ='HOJA DE INSCRPCION'!E28 -> 0
B29: 農林水産省許可 | C29: ='HOJA DE INSCRPCION'!E29 -> 0
B30: 許可番号 | C30: ='HOJA DE INSCRPCION'!E30 -> 0
A31: 食品 | B31: 商品-日本語 | C31: *
B32: 商品 | C32: ='HOJA DE INSCRPCION'!E32 -> 0
B33: ブランド | C33: ='HOJA DE INSCRPCION'!G32 -> 0
B34: その他 | C34: ='HOJA DE INSCRPCION'!H32 -> 0
B35: 商品 | C35: ='HOJA DE INSCRPCION'!E33 -> 0
B36: ブランド | C36: ='HOJA DE INSCRPCION'!G33 -> 0
B37: その他 | C37: ='HOJA DE INSCRPCION'!H33 -> 0
B38: 商品 | C38: ='HOJA DE INSCRPCION'!E34 -> 0
B39: ブランド | C39: ='HOJA DE INSCRPCION'!G34 -> 0
B40: その他 | C40: ='HOJA DE INSCRPCION'!H34 -> 0
B41: 商品 | C41: ='HOJA DE INSCRPCION'!E35 -> 0
B42: ブランド | C42: ='HOJA DE INSCRPCION'!G35 -> 0
B43: その他 | C43: ='HOJA DE INSCRPCION'!H35 -> 0
B44: 商品 | C44: ='HOJA DE INSCRPCION'!E36 -> 0
B45: ブランド | C45: ='HOJA DE INSCRPCION'!G36 -> 0
B46: その他 | C46: ='HOJA DE INSCRPCION'!H36 -> 0
B47: 商品 | C47: ='HOJA DE INSCRPCION'!E37 -> 0
B48: ブランド | C48: ='HOJA DE INSCRPCION'!G37 -> 0
B49: その他 | C49: ='HOJA DE INSCRPCION'!H37 -> 0
B50: 商品 | C50: ='HOJA DE INSCRPCION'!E38 -> 0
B51: ブランド | C51: ='HOJA DE INSCRPCION'!G38 -> 0
B52: その他 | C52: ='HOJA DE INSCRPCION'!H38 -> 0
B53: 商品 | C53: ='HOJA DE INSCRPCION'!E39 -> 0
B54: ブランド | C54: ='HOJA DE INSCRPCION'!G39 -> 0
B55: その他 | C55: ='HOJA DE INSCRPCION'!H39 -> 0
B56: 商品 | C56: ='HOJA DE INSCRPCION'!E40 -> 0
B57: ブランド | C57: ='HOJA DE INSCRPCION'!G40 -> 0
B58: その他 | C58: ='HOJA DE INSCRPCION'!H40 -> 0
B59: 商品 | C59: ='HOJA DE INSCRPCION'!E41 -> 0
B60: ブランド | C60: ='HOJA DE INSCRPCION'!G41 -> 0
B61: その他 | C61: ='HOJA DE INSCRPCION'!H41 -> 0
A62: ワイン | B62: ワイン-日本語 | C62: *
B63: ワイン | C63: ='HOJA DE INSCRPCION'!E43 -> 0
B64: 色 | C64: ='HOJA DE INSCRPCION'!F43 -> 0
B65: ヴィンテージ | C65: ='HOJA DE INSCRPCION'!G43 -> 0
B66: ランク | C66: ='HOJA DE INSCRPCION'!H43 -> 0
B67: 地域 | C67: ='HOJA DE INSCRPCION'!I43 -> 0
B68: 熟成 | C68: ='HOJA DE INSCRPCION'!J43 -> 0
B69: ぶどう | C69: ='HOJA DE INSCRPCION'!K43 -> 0
B70: その他 | C70: ='HOJA DE INSCRPCION'!L43 -> 0
B71: ワイン | C71: ='HOJA DE INSCRPCION'!E44 -> 0
B72: 色 | C72: ='HOJA DE INSCRPCION'!F44 -> 0
B73: ヴィンテージ | C73: ='HOJA DE INSCRPCION'!G44 -> 0
B74: ランク | C74: ='HOJA DE INSCRPCION'!H44 -> 0
B75: 地域 | C75: ='HOJA DE INSCRPCION'!I44 -> 0
B76: 熟成 | C76: ='HOJA DE INSCRPCION'!J44 -> 0
B77: ぶどう | C77: ='HOJA DE INSCRPCION'!K44 -> 0
B78: その他 | C78: ='HOJA DE INSCRPCION'!L44 -> 0
B79: ワイン | C79: ='HOJA DE INSCRPCION'!E45 -> 0
B80: 色 | C80: ='HOJA DE INSCRPCION'!F45 -> 0
B81: ヴィンテージ | C81: ='HOJA DE INSCRPCION'!G45 -> 0
B82: ランク | C82: ='HOJA DE INSCRPCION'!H45 -> 0
B83: 地域 | C83: ='HOJA DE INSCRPCION'!I45 -> 0
B84: 熟成 | C84: ='HOJA DE INSCRPCION'!J45 -> 0
B85: ぶどう | C85: ='HOJA DE INSCRPCION'!K45 -> 0
B86: その他 | C86: ='HOJA DE INSCRPCION'!L45 -> 0
B87: ワイン | C87: ='HOJA DE INSCRPCION'!E46 -> 0
B88: 色 | C88: ='HOJA DE INSCRPCION'!F46 -> 0
B89: ヴィンテージ | C89: ='HOJA DE INSCRPCION'!G46 -> 0
B90: ランク | C90: ='HOJA DE INSCRPCION'!H46 -> 0
B91: 地域 | C91: ='HOJA DE INSCRPCION'!I46 -> 0
B92: 熟成 | C92: ='HOJA DE INSCRPCION'!J46 -> 0
B93: ぶどう | C93: ='HOJA DE INSCRPCION'!K46 -> 0
B94: その他 | C94: ='HOJA DE INSCRPCION'!L46 -> 0
B95: ワイン | C95: ='HOJA DE INSCRPCION'!E47 -> 0
B96: 色 | C96: ='HOJA DE INSCRPCION'!F47 -> 0
B97: ヴィンテージ | C97: ='HOJA DE INSCRPCION'!G47 -> 0
B98: ランク | C98: ='HOJA DE INSCRPCION'!H47 -> 0
B99: 地域 | C99: ='HOJA DE INSCRPCION'!I47 -> 0
B100: 熟成 | C100: ='HOJA DE INSCRPCION'!J47 -> 0
B101: ぶどう | C101: ='HOJA DE INSCRPCION'!K47 -> 0
B102: その他 | C102: ='HOJA DE INSCRPCION'!L47 -> 0
B103: ワイン | C103: ='HOJA DE INSCRPCION'!E48 -> 0
...
